BEGIN:VCALENDAR
VERSION:2.0
PRODID:-//Sumter Behavioral Health Services - ECPv6.15.20//NONSGML v1.0//EN
CALSCALE:GREGORIAN
METHOD:PUBLISH
X-ORIGINAL-URL:https://sumterbhs.org
X-WR-CALDESC:Events for Sumter Behavioral Health Services
REFRESH-INTERVAL;VALUE=DURATION:PT1H
X-Robots-Tag:noindex
X-PUBLISHED-TTL:PT1H
BEGIN:VTIMEZONE
TZID:America/New_York
BEGIN:DAYLIGHT
TZOFFSETFROM:-0500
TZOFFSETTO:-0400
TZNAME:EDT
DTSTART:20250309T070000
END:DAYLIGHT
BEGIN:STANDARD
TZOFFSETFROM:-0400
TZOFFSETTO:-0500
TZNAME:EST
DTSTART:20251102T060000
END:STANDARD
BEGIN:DAYLIGHT
TZOFFSETFROM:-0500
TZOFFSETTO:-0400
TZNAME:EDT
DTSTART:20260308T070000
END:DAYLIGHT
BEGIN:STANDARD
TZOFFSETFROM:-0400
TZOFFSETTO:-0500
TZNAME:EST
DTSTART:20261101T060000
END:STANDARD
BEGIN:DAYLIGHT
TZOFFSETFROM:-0500
TZOFFSETTO:-0400
TZNAME:EDT
DTSTART:20270314T070000
END:DAYLIGHT
BEGIN:STANDARD
TZOFFSETFROM:-0400
TZOFFSETTO:-0500
TZNAME:EST
DTSTART:20271107T060000
END:STANDARD
END:VTIMEZONE
BEGIN:VEVENT
DTSTART;TZID=America/New_York:20260425T100000
DTEND;TZID=America/New_York:20260425T140000
DTSTAMP:20260422T183533
CREATED:20260420T193603Z
LAST-MODIFIED:20260421T142823Z
UID:1226-1777111200-1777125600@sumterbhs.org
SUMMARY:DEA National Take Back
DESCRIPTION:Take Back Day \nTwice a year\, DEA joins forces with local law enforcement and community groups to host DEA’s National Prescription Drug Take Back Day\, giving the public a safe and anonymous way to dispose of expired and unused prescription medications. By getting rid of unnecessary medications in the home\, families can help prevent prescription drug misuse and reduce the potential for accidental poisonings.
URL:https://sumterbhs.org/event/dea-national-take-back/
END:VEVENT
BEGIN:VEVENT
DTSTART;TZID=America/New_York:20260425T100000
DTEND;TZID=America/New_York:20260425T140000
DTSTAMP:20260422T183533
CREATED:20260421T135536Z
LAST-MODIFIED:20260421T135711Z
UID:1322-1777111200-1777125600@sumterbhs.org
SUMMARY:Durant Children's Center
DESCRIPTION:Heart2Heart Flyer 2026 \n411 N. Salem Ave \nSumter SC 29154 \nEnjoy a Bounce House\, Emergency Vehicles\, Music\, Bubbles\, Arts &\nCrafts\, Free Food\, and so much more! \n 
URL:https://sumterbhs.org/event/durant-childrens-center/
END:VEVENT
BEGIN:VEVENT
DTSTART;TZID=America/New_York:20260504T173000
DTEND;TZID=America/New_York:20260504T183000
DTSTAMP:20260422T183533
CREATED:20260420T193725Z
LAST-MODIFIED:20260420T193746Z
UID:1229-1777915800-1777919400@sumterbhs.org
SUMMARY:ANA Support Group
DESCRIPTION:ANARAA Support group
URL:https://sumterbhs.org/event/ana-support-group/
END:VEVENT
BEGIN:VEVENT
DTSTART;TZID=America/New_York:20260506T080000
DTEND;TZID=America/New_York:20260506T170000
DTSTAMP:20260422T183533
CREATED:20260420T200057Z
LAST-MODIFIED:20260420T200057Z
UID:1246-1778054400-1778086800@sumterbhs.org
SUMMARY:RIZE-For Students
DESCRIPTION:RIZE \n\nEquipping today’s youth to live healthy\, addiction-free lives—\nbecause every child deserves to thrive.\n\n\nStopping Addiction Before It Starts.\n\n\nAddiction begins long before most people think. RIZE Prevention intervenes early with research-backed prevention\, mentorship\, and family support to stop addiction before it starts.
URL:https://sumterbhs.org/event/rize-for-students/
END:VEVENT
BEGIN:VEVENT
DTSTART;TZID=America/New_York:20260511T173000
DTEND;TZID=America/New_York:20260511T183000
DTSTAMP:20260422T183533
CREATED:20260420T193833Z
LAST-MODIFIED:20260420T193833Z
UID:1232-1778520600-1778524200@sumterbhs.org
SUMMARY:ANA Support Group
DESCRIPTION:ANARAA Support group
URL:https://sumterbhs.org/event/ana-support-group-2/
END:VEVENT
BEGIN:VEVENT
DTSTART;TZID=America/New_York:20260518T173000
DTEND;TZID=America/New_York:20260518T183000
DTSTAMP:20260422T183533
CREATED:20260420T193912Z
LAST-MODIFIED:20260420T193912Z
UID:1235-1779125400-1779129000@sumterbhs.org
SUMMARY:ANA Support Group
DESCRIPTION:ANARAA Support group
URL:https://sumterbhs.org/event/ana-support-group-3/
END:VEVENT
BEGIN:VEVENT
DTSTART;TZID=America/New_York:20260525T173000
DTEND;TZID=America/New_York:20260525T183000
DTSTAMP:20260422T183533
CREATED:20260420T193952Z
LAST-MODIFIED:20260420T195129Z
UID:1237-1779730200-1779733800@sumterbhs.org
SUMMARY:ANA Support Group
DESCRIPTION:ANARAA Support group
URL:https://sumterbhs.org/event/ana-support-group-4/
END:VEVENT
BEGIN:VEVENT
DTSTART;TZID=America/New_York:20260801T100000
DTEND;TZID=America/New_York:20261003T130000
DTSTAMP:20260422T183533
CREATED:20260421T181159Z
LAST-MODIFIED:20260421T190831Z
UID:1331-1785578400-1791032400@sumterbhs.org
SUMMARY:P.A.R.K
DESCRIPTION:The Sumter County Coordinating Council is proud to present the 2026 P.A.R.K. (Parent Accessing Resources for Kids) Event. We are excited to continue this impactful initiative supporting children and families in our community.
URL:https://sumterbhs.org/event/p-a-r-k/
END:VEVENT
END:VCALENDAR