BEGIN:VCALENDAR
VERSION:2.0
PRODID:-//Sumter Behavioral Health Services - ECPv6.15.20//NONSGML v1.0//EN
CALSCALE:GREGORIAN
METHOD:PUBLISH
X-ORIGINAL-URL:https://sumterbhs.org
X-WR-CALDESC:Events for Sumter Behavioral Health Services
REFRESH-INTERVAL;VALUE=DURATION:PT1H
X-Robots-Tag:noindex
X-PUBLISHED-TTL:PT1H
BEGIN:VTIMEZONE
TZID:America/New_York
BEGIN:DAYLIGHT
TZOFFSETFROM:-0500
TZOFFSETTO:-0400
TZNAME:EDT
DTSTART:20250309T070000
END:DAYLIGHT
BEGIN:STANDARD
TZOFFSETFROM:-0400
TZOFFSETTO:-0500
TZNAME:EST
DTSTART:20251102T060000
END:STANDARD
BEGIN:DAYLIGHT
TZOFFSETFROM:-0500
TZOFFSETTO:-0400
TZNAME:EDT
DTSTART:20260308T070000
END:DAYLIGHT
BEGIN:STANDARD
TZOFFSETFROM:-0400
TZOFFSETTO:-0500
TZNAME:EST
DTSTART:20261101T060000
END:STANDARD
BEGIN:DAYLIGHT
TZOFFSETFROM:-0500
TZOFFSETTO:-0400
TZNAME:EDT
DTSTART:20270314T070000
END:DAYLIGHT
BEGIN:STANDARD
TZOFFSETFROM:-0400
TZOFFSETTO:-0500
TZNAME:EST
DTSTART:20271107T060000
END:STANDARD
END:VTIMEZONE
BEGIN:VEVENT
DTSTART;TZID=America/New_York:20260425T100000
DTEND;TZID=America/New_York:20260425T140000
DTSTAMP:20260422T212504
CREATED:20260420T193603Z
LAST-MODIFIED:20260421T142823Z
UID:1226-1777111200-1777125600@sumterbhs.org
SUMMARY:DEA National Take Back
DESCRIPTION:Take Back Day \nTwice a year\, DEA joins forces with local law enforcement and community groups to host DEA’s National Prescription Drug Take Back Day\, giving the public a safe and anonymous way to dispose of expired and unused prescription medications. By getting rid of unnecessary medications in the home\, families can help prevent prescription drug misuse and reduce the potential for accidental poisonings.
URL:https://sumterbhs.org/event/dea-national-take-back/
END:VEVENT
BEGIN:VEVENT
DTSTART;TZID=America/New_York:20260425T100000
DTEND;TZID=America/New_York:20260425T140000
DTSTAMP:20260422T212504
CREATED:20260421T135536Z
LAST-MODIFIED:20260421T135711Z
UID:1322-1777111200-1777125600@sumterbhs.org
SUMMARY:Durant Children's Center
DESCRIPTION:Heart2Heart Flyer 2026 \n411 N. Salem Ave \nSumter SC 29154 \nEnjoy a Bounce House\, Emergency Vehicles\, Music\, Bubbles\, Arts &\nCrafts\, Free Food\, and so much more! \n 
URL:https://sumterbhs.org/event/durant-childrens-center/
END:VEVENT
END:VCALENDAR